BEGIN:VCALENDAR
VERSION:2.0
PRODID:-//Friendship Force of Wisconsin - ECPv6.15.20//NONSGML v1.0//EN
CALSCALE:GREGORIAN
METHOD:PUBLISH
X-WR-CALNAME:Friendship Force of Wisconsin
X-ORIGINAL-URL:https://ffwis.org
X-WR-CALDESC:Events for Friendship Force of Wisconsin
REFRESH-INTERVAL;VALUE=DURATION:PT1H
X-Robots-Tag:noindex
X-PUBLISHED-TTL:PT1H
BEGIN:VTIMEZONE
TZID:America/Chicago
BEGIN:DAYLIGHT
TZOFFSETFROM:-0600
TZOFFSETTO:-0500
TZNAME:CDT
DTSTART:20250309T080000
END:DAYLIGHT
BEGIN:STANDARD
TZOFFSETFROM:-0500
TZOFFSETTO:-0600
TZNAME:CST
DTSTART:20251102T070000
END:STANDARD
BEGIN:DAYLIGHT
TZOFFSETFROM:-0600
TZOFFSETTO:-0500
TZNAME:CDT
DTSTART:20260308T080000
END:DAYLIGHT
BEGIN:STANDARD
TZOFFSETFROM:-0500
TZOFFSETTO:-0600
TZNAME:CST
DTSTART:20261101T070000
END:STANDARD
BEGIN:DAYLIGHT
TZOFFSETFROM:-0600
TZOFFSETTO:-0500
TZNAME:CDT
DTSTART:20270314T080000
END:DAYLIGHT
BEGIN:STANDARD
TZOFFSETFROM:-0500
TZOFFSETTO:-0600
TZNAME:CST
DTSTART:20271107T070000
END:STANDARD
END:VTIMEZONE
BEGIN:VEVENT
DTSTART;TZID=America/Chicago:20260209T080000
DTEND;TZID=America/Chicago:20260209T170000
DTSTAMP:20260425T124839
CREATED:20260210T021841Z
LAST-MODIFIED:20260210T021841Z
UID:5973-1770624000-1770656400@ffwis.org
SUMMARY:Freeze for Food
DESCRIPTION:Some of our members have participated in past years. The event is organized by the Returned Peace Corps of Wisconsin-Madison.  They are proudly raising money for Open Doors for Refugees\, a local Madison non-profit.    Sign up at https://runsignup.com/Race/WI/Madison/RPCVFreezeForFood
URL:https://ffwis.org/event/freeze-for-food/
END:VEVENT
END:VCALENDAR