BEGIN:VCALENDAR
VERSION:2.0
PRODID:-//Friendship Force of Wisconsin - ECPv6.15.20//NONSGML v1.0//EN
CALSCALE:GREGORIAN
METHOD:PUBLISH
X-ORIGINAL-URL:https://ffwis.org
X-WR-CALDESC:Events for Friendship Force of Wisconsin
REFRESH-INTERVAL;VALUE=DURATION:PT1H
X-Robots-Tag:noindex
X-PUBLISHED-TTL:PT1H
BEGIN:VTIMEZONE
TZID:America/Chicago
BEGIN:DAYLIGHT
TZOFFSETFROM:-0600
TZOFFSETTO:-0500
TZNAME:CDT
DTSTART:20250309T080000
END:DAYLIGHT
BEGIN:STANDARD
TZOFFSETFROM:-0500
TZOFFSETTO:-0600
TZNAME:CST
DTSTART:20251102T070000
END:STANDARD
BEGIN:DAYLIGHT
TZOFFSETFROM:-0600
TZOFFSETTO:-0500
TZNAME:CDT
DTSTART:20260308T080000
END:DAYLIGHT
BEGIN:STANDARD
TZOFFSETFROM:-0500
TZOFFSETTO:-0600
TZNAME:CST
DTSTART:20261101T070000
END:STANDARD
BEGIN:DAYLIGHT
TZOFFSETFROM:-0600
TZOFFSETTO:-0500
TZNAME:CDT
DTSTART:20270314T080000
END:DAYLIGHT
BEGIN:STANDARD
TZOFFSETFROM:-0500
TZOFFSETTO:-0600
TZNAME:CST
DTSTART:20271107T070000
END:STANDARD
END:VTIMEZONE
BEGIN:VEVENT
DTSTART;TZID=America/Chicago:20260216T070000
DTEND;TZID=America/Chicago:20260216T203000
DTSTAMP:20260425T161555
CREATED:20260210T021139Z
LAST-MODIFIED:20260210T021139Z
UID:5969-1771225200-1771273800@ffwis.org
SUMMARY:Book Club
DESCRIPTION:Our next meeting will also take place by zoom on Monday February 16\, 7:00.  We will discuss Patriot by Alexei Navalny (2024). ” This is a powerful and moving memoir of a fearless political opposition leader who paid the ultimate price for his beliefs. Alexei Navalny began writing the Patriot shortly after his near fatal poisoning in 2020.  ”    If you would like to be added to the contact list for the book club\, please contact Marjie Marion.
URL:https://ffwis.org/event/book-club-27/
LOCATION:Zoom – within your own home!\, Madison\, WI\, 53706\, United States
CATEGORIES:Book Club
ORGANIZER;CN="Marjie Marion":MAILTO:midsi@aol.com
END:VEVENT
END:VCALENDAR