BEGIN:VCALENDAR
VERSION:2.0
PRODID:-//Friendship Force of Wisconsin - ECPv6.15.20//NONSGML v1.0//EN
CALSCALE:GREGORIAN
METHOD:PUBLISH
X-ORIGINAL-URL:https://ffwis.org
X-WR-CALDESC:Events for Friendship Force of Wisconsin
REFRESH-INTERVAL;VALUE=DURATION:PT1H
X-Robots-Tag:noindex
X-PUBLISHED-TTL:PT1H
BEGIN:VTIMEZONE
TZID:America/Chicago
BEGIN:DAYLIGHT
TZOFFSETFROM:-0600
TZOFFSETTO:-0500
TZNAME:CDT
DTSTART:20210314T080000
END:DAYLIGHT
BEGIN:STANDARD
TZOFFSETFROM:-0500
TZOFFSETTO:-0600
TZNAME:CST
DTSTART:20211107T070000
END:STANDARD
BEGIN:DAYLIGHT
TZOFFSETFROM:-0600
TZOFFSETTO:-0500
TZNAME:CDT
DTSTART:20220313T080000
END:DAYLIGHT
BEGIN:STANDARD
TZOFFSETFROM:-0500
TZOFFSETTO:-0600
TZNAME:CST
DTSTART:20221106T070000
END:STANDARD
BEGIN:DAYLIGHT
TZOFFSETFROM:-0600
TZOFFSETTO:-0500
TZNAME:CDT
DTSTART:20230312T080000
END:DAYLIGHT
BEGIN:STANDARD
TZOFFSETFROM:-0500
TZOFFSETTO:-0600
TZNAME:CST
DTSTART:20231105T070000
END:STANDARD
END:VTIMEZONE
BEGIN:VEVENT
DTSTART;TZID=America/Chicago:20220622T173000
DTEND;TZID=America/Chicago:20220622T210000
DTSTAMP:20260425T202327
CREATED:20220611T173959Z
LAST-MODIFIED:20220611T173959Z
UID:4728-1655919000-1655931600@ffwis.org
SUMMARY:Friendship Force Annual Picnic
DESCRIPTION:It’s time for the Friendship Force Annual Summer Potluck Picnic Buffet! \nPlease provide a dish to share for the potluck such as potato salad\, vegetable salad or platter\, baked beans\, hot dish\, meat dish\, hors d’oeuvres\, chips and dip\, fruit tray\, variety of desserts\, etc. \nPlease bring your own beverage – park rules prohibit glass containers and alcohol. Paper plates\, utensils\, napkins\, and cups will be provided.  \nEasy directions: From Sherman Avenue across from the lock\, turn onto North Thornton Avenue which runs parallel with the Yahara River. Drive to the parking area at the end of the road. Follow the sidewalk to the shelter.  \nReservations are due by Monday\, June 20\, so that tables and seating can be prepared. Please indicate your potluck contribution when you make your reservation with Gail Holmes at glholmes@wisc.edu or phone 608-249-1846.  \nPlease wear your name tag! \nHope to see you there!!
URL:https://ffwis.org/event/friendship-force-annual-picnic/
LOCATION:Tenney Park John Wall Family Shelter\, 300 N Thorton Ave\, Madison\, Wisconsin
CATEGORIES:Picnics
ORGANIZER;CN="Gail Holmes":MAILTO:glholmes@wisc.edu
END:VEVENT
BEGIN:VEVENT
DTSTART;TZID=America/Chicago:20220115T113000
DTEND;TZID=America/Chicago:20220115T150000
DTSTAMP:20260425T202328
CREATED:20211230T203409Z
LAST-MODIFIED:20211230T211317Z
UID:4466-1642246200-1642258800@ffwis.org
SUMMARY:Winter Potluck Party
DESCRIPTION:Enjoy a winter potluck party with FF Members! \nOn Saturday January 15\, 2022\, from 11:30am until 3pm\, members will enjoy a winter potluck party at the Fitchburg Library\, 5530 Lacy Road.  \nSocial time begins at 11:30\, and potluck at noon.  \nYou are asked to contribute a main dish\, salad\, vegetable\, dessert or a favorite specialty.  \nMike Lambert of the Programs Committee will offer us an international trivia game program\, so be prepared to have fun and test your knowledge.
URL:https://ffwis.org/event/winter-potluck-party/
LOCATION:Fitchburg Public Library\, 5530 Lacy Road\, Fitchburg\, Wisconsin\, 53711
CATEGORIES:Picnics
END:VEVENT
END:VCALENDAR