BEGIN:VCALENDAR
VERSION:2.0
PRODID:-//Friendship Force of Wisconsin - ECPv6.15.20//NONSGML v1.0//EN
CALSCALE:GREGORIAN
METHOD:PUBLISH
X-ORIGINAL-URL:https://ffwis.org
X-WR-CALDESC:Events for Friendship Force of Wisconsin
REFRESH-INTERVAL;VALUE=DURATION:PT1H
X-Robots-Tag:noindex
X-PUBLISHED-TTL:PT1H
BEGIN:VTIMEZONE
TZID:America/Chicago
BEGIN:DAYLIGHT
TZOFFSETFROM:-0600
TZOFFSETTO:-0500
TZNAME:CDT
DTSTART:20210314T080000
END:DAYLIGHT
BEGIN:STANDARD
TZOFFSETFROM:-0500
TZOFFSETTO:-0600
TZNAME:CST
DTSTART:20211107T070000
END:STANDARD
BEGIN:DAYLIGHT
TZOFFSETFROM:-0600
TZOFFSETTO:-0500
TZNAME:CDT
DTSTART:20220313T080000
END:DAYLIGHT
BEGIN:STANDARD
TZOFFSETFROM:-0500
TZOFFSETTO:-0600
TZNAME:CST
DTSTART:20221106T070000
END:STANDARD
BEGIN:DAYLIGHT
TZOFFSETFROM:-0600
TZOFFSETTO:-0500
TZNAME:CDT
DTSTART:20230312T080000
END:DAYLIGHT
BEGIN:STANDARD
TZOFFSETFROM:-0500
TZOFFSETTO:-0600
TZNAME:CST
DTSTART:20231105T070000
END:STANDARD
BEGIN:DAYLIGHT
TZOFFSETFROM:-0600
TZOFFSETTO:-0500
TZNAME:CDT
DTSTART:20240310T080000
END:DAYLIGHT
BEGIN:STANDARD
TZOFFSETFROM:-0500
TZOFFSETTO:-0600
TZNAME:CST
DTSTART:20241103T070000
END:STANDARD
BEGIN:DAYLIGHT
TZOFFSETFROM:-0600
TZOFFSETTO:-0500
TZNAME:CDT
DTSTART:20250309T080000
END:DAYLIGHT
BEGIN:STANDARD
TZOFFSETFROM:-0500
TZOFFSETTO:-0600
TZNAME:CST
DTSTART:20251102T070000
END:STANDARD
BEGIN:DAYLIGHT
TZOFFSETFROM:-0600
TZOFFSETTO:-0500
TZNAME:CDT
DTSTART:20260308T080000
END:DAYLIGHT
BEGIN:STANDARD
TZOFFSETFROM:-0500
TZOFFSETTO:-0600
TZNAME:CST
DTSTART:20261101T070000
END:STANDARD
BEGIN:DAYLIGHT
TZOFFSETFROM:-0600
TZOFFSETTO:-0500
TZNAME:CDT
DTSTART:20270314T080000
END:DAYLIGHT
BEGIN:STANDARD
TZOFFSETFROM:-0500
TZOFFSETTO:-0600
TZNAME:CST
DTSTART:20271107T070000
END:STANDARD
END:VTIMEZONE
BEGIN:VEVENT
DTSTART;TZID=America/Chicago:20260325T123000
DTEND;TZID=America/Chicago:20260325T153000
DTSTAMP:20260425T125325
CREATED:20260302T230026Z
LAST-MODIFIED:20260302T230026Z
UID:5985-1774441800-1774452600@ffwis.org
SUMMARY:Second Harvest
DESCRIPTION:With monthly opportunities\, you can choose a date that works around your travels\, winter get-aways\, and other obligations. All you need to do is respond toan email sent in the middle ofthemonth. Mary Crave lets Second Harvest know how many will be coming so they can plan accordingly. The distribution center is located at 2602   Dairy Drive\, Madison\, just minutes from Stoughton Rd and the Beltline. \n 
URL:https://ffwis.org/event/second-harvest-18/
LOCATION:Second Harvest Foodbank of Southern Wisconsin\, 2802 Dairy Drive\, Madison\, 53719\, United States
CATEGORIES:Volunteer
ORGANIZER;CN="Mary Crave":MAILTO:mary.crave@wisc.edu
END:VEVENT
BEGIN:VEVENT
DTSTART;TZID=America/Chicago:20230629T123000
DTEND;TZID=America/Chicago:20230629T153000
DTSTAMP:20260425T125325
CREATED:20230512T104445Z
LAST-MODIFIED:20230613T211613Z
UID:5053-1688041800-1688052600@ffwis.org
SUMMARY:Volunteer: Second Harvest Food Bank
DESCRIPTION:Thursday June 29th from 12:30 pm to 3:30 pm is our Club’s June volunteer day with Second Harvest Food Bank\, 2802 Dairy Drive in Madison. This is a safe working environment with precautions in place. \nVolunteers should wear shirts with sleeves\, closed-toed shoes and remove all jewelry.  \nPlease consider giving three hours of your time this month to help others. Let Lois Schulz know if you want to participate. loisschulz1942@gmail.com / 608-243-9761
URL:https://ffwis.org/event/volunteer-second-harvest-food-bank/
LOCATION:Second Harvest Food Bank\, 2802 Dairy Drive\, Madison\, Wisconsin\, 53718
CATEGORIES:Volunteer
ORGANIZER;CN="Lois Schulz":MAILTO:loisschulz1942@gmail.com
END:VEVENT
BEGIN:VEVENT
DTSTART;TZID=America/Chicago:20230525T003000
DTEND;TZID=America/Chicago:20230525T153000
DTSTAMP:20260425T125325
CREATED:20230411T032719Z
LAST-MODIFIED:20230411T032719Z
UID:5002-1684974600-1685028600@ffwis.org
SUMMARY:Second Harvest Food Bank
DESCRIPTION:Our Madison club volunteers at the end of each month. We sort\, package\, and generally prepare bulk food into smaller proportions for distribution by the Foodbank.
URL:https://ffwis.org/event/second-harvest-food-bank-9/
LOCATION:Second Harvest Food Bank\, 2802 Dairy Drive\, Madison\, Wisconsin\, 53718
CATEGORIES:Volunteer
ORGANIZER;CN="Gail Holmes":MAILTO:glholmes@wisc.edu
END:VEVENT
BEGIN:VEVENT
DTSTART;TZID=America/Chicago:20230427T003000
DTEND;TZID=America/Chicago:20230427T153000
DTSTAMP:20260425T125325
CREATED:20230411T032556Z
LAST-MODIFIED:20230411T032556Z
UID:5000-1682555400-1682609400@ffwis.org
SUMMARY:Second Harvest Food Bank
DESCRIPTION:Our Madison club volunteers at the end of each month. We sort\, package\, and generally prepare bulk food into smaller proportions for distribution by the Foodbank.
URL:https://ffwis.org/event/second-harvest-food-bank-8/
LOCATION:Second Harvest Food Bank\, 2802 Dairy Drive\, Madison\, Wisconsin\, 53718
CATEGORIES:Volunteer
ORGANIZER;CN="Gail Holmes":MAILTO:glholmes@wisc.edu
END:VEVENT
BEGIN:VEVENT
DTSTART;TZID=America/Chicago:20230126T123000
DTEND;TZID=America/Chicago:20230126T153000
DTSTAMP:20260425T125325
CREATED:20221230T010256Z
LAST-MODIFIED:20221230T010256Z
UID:4934-1674736200-1674747000@ffwis.org
SUMMARY:Second Harvest Volunteering
DESCRIPTION:The date for our monthly service project at Second Harvest  at 2802 Dairy Dr\, Madison is Thursday January 26th\, 12:30 till 3:30.   \nThis is a great opportunity to serve our community and it’s fun as well.  Please let Lois Schulz know if you are planning to participate by January 24th.   Lois’s Email address is loisschulz1942@gmail.com.  Her phone number is (608)243-9761.
URL:https://ffwis.org/event/second-harvest-volunteering-2/
LOCATION:Second Harvest Food Bank\, 2802 Dairy Drive\, Madison\, Wisconsin\, 53718
CATEGORIES:Volunteer
ORGANIZER;CN="Lois Schulz":MAILTO:loisschulz1942@gmail.com
END:VEVENT
BEGIN:VEVENT
DTSTART;TZID=America/Chicago:20230105T123000
DTEND;TZID=America/Chicago:20230105T153000
DTSTAMP:20260425T125325
CREATED:20221230T005742Z
LAST-MODIFIED:20221230T005742Z
UID:4931-1672921800-1672932600@ffwis.org
SUMMARY:Second Harvest Volunteering
DESCRIPTION:Just a reminder that the date for our monthly service project at Second Harvest  at 2802 Dairy Dr\, Madison is Thursday January 5th\, 12:30 till 3:30.   \nThis is a great opportunity to serve our community and it’s fun as well.  Please let Lois Schulz know if you are planning to participate by January 3rd..   Lois’s Email address is loisschulz1942@gmail.com.  Her phone number is (608)243-9761.
URL:https://ffwis.org/event/second-harvest-volunteering/
LOCATION:Second Harvest Food Bank\, 2802 Dairy Drive\, Madison\, Wisconsin\, 53718
CATEGORIES:Volunteer
ORGANIZER;CN="Lois Schulz":MAILTO:loisschulz1942@gmail.com
END:VEVENT
BEGIN:VEVENT
DTSTART;TZID=America/Chicago:20220929T123000
DTEND;TZID=America/Chicago:20220929T153000
DTSTAMP:20260425T125325
CREATED:20220927T145132Z
LAST-MODIFIED:20220927T145132Z
UID:4812-1664454600-1664465400@ffwis.org
SUMMARY:Second Harvest Food Bank
DESCRIPTION:Thursday September 29th from 12:30 pm to 3:30 pm is our Club’s June volunteer day with Second Harvest Food Bank\, 2802 Dairy Drive in Madison. This is a safe working environment with precautions in place. \nPlease consider giving three hours of your time this month to help others\, Let Lois Schulz know if you want to participate. loisschulz1942@gmail.com / 608-243-9761
URL:https://ffwis.org/event/second-harvest-food-bank-7/
LOCATION:Second Harvest Food Bank\, 2802 Dairy Drive\, Madison\, Wisconsin\, 53718
CATEGORIES:Volunteer
ORGANIZER;CN="Lois Schulz":MAILTO:loisschulz1942@gmail.com
END:VEVENT
BEGIN:VEVENT
DTSTART;TZID=America/Chicago:20220728T123000
DTEND;TZID=America/Chicago:20220728T153000
DTSTAMP:20260425T125325
CREATED:20220701T201458Z
LAST-MODIFIED:20220701T201458Z
UID:4751-1659011400-1659022200@ffwis.org
SUMMARY:Second Harvest Food Bank
DESCRIPTION:Our next Food Bank volunteer day is Thursday\, July 28 from 12:30 to 3:30 at 2802 Dairy Drive in Madison.  \nThis is a safe working environment with precautions in place.  \nLet Lois Schulz know by Tuesday noon\, July 26\, if you want to participate. loisschulz1942@gmail.com / 608-243-9761
URL:https://ffwis.org/event/second-harvest-food-bank-6/
LOCATION:Second Harvest Food Bank\, 2802 Dairy Drive\, Madison\, Wisconsin\, 53718
CATEGORIES:Volunteer
ORGANIZER;CN="Lois Schulz":MAILTO:loisschulz1942@gmail.com
END:VEVENT
BEGIN:VEVENT
DTSTART;TZID=America/Chicago:20220623T123000
DTEND;TZID=America/Chicago:20220623T153000
DTSTAMP:20260425T125325
CREATED:20220324T214602Z
LAST-MODIFIED:20220525T205155Z
UID:4623-1655987400-1655998200@ffwis.org
SUMMARY:Second Harvest Food Bank
DESCRIPTION:Thursday June 23rd from 12:30 pm to 3:30 pm is our Club’s June volunteer day with Second Harvest Food Bank\, 2802 Dairy Drive in Madison. This is a safe working environment with precautions in place. \nPlease consider giving three hours of your time this month to help others\, Let Lois Schulz know by Tuesday noon\, June 20th if you want to participate. loisschulz1942@gmail.com / 608-243-9761
URL:https://ffwis.org/event/second-harvest-food-bank-5/
LOCATION:Second Harvest Food Bank\, 2802 Dairy Drive\, Madison\, Wisconsin\, 53718
CATEGORIES:Volunteer
ORGANIZER;CN="Lois Schulz":MAILTO:loisschulz1942@gmail.com
END:VEVENT
BEGIN:VEVENT
DTSTART;TZID=America/Chicago:20220526T123000
DTEND;TZID=America/Chicago:20220526T153000
DTSTAMP:20260425T125325
CREATED:20220324T213720Z
LAST-MODIFIED:20220430T195304Z
UID:4620-1653568200-1653579000@ffwis.org
SUMMARY:Second Harvest Food Bank
DESCRIPTION:Thursday May 26 from 12:30 pm to 3:30 pm is our Club’s March volunteer day with Second Harvest Food Bank\, 2802 Dairy Drive in Madison.  \nThis is a safe working environment with precautions in place. \nPlease consider giving three hours of your time this month to help others\, Let Lois Schulz know by Tuesday noon\, March 22nd if you want to participate.  Contact:  loisschulz1942@gmail.com / 608–243–9761
URL:https://ffwis.org/event/second-harvest-food-bank-4/
LOCATION:Second Harvest Food Bank\, 2802 Dairy Drive\, Madison\, Wisconsin\, 53718
CATEGORIES:Volunteer
ORGANIZER;CN="Lois Schulz":MAILTO:loisschulz1942@gmail.com
END:VEVENT
BEGIN:VEVENT
DTSTART;TZID=America/Chicago:20220428T123000
DTEND;TZID=America/Chicago:20220428T153000
DTSTAMP:20260425T125325
CREATED:20220324T213541Z
LAST-MODIFIED:20220324T214319Z
UID:4618-1651149000-1651159800@ffwis.org
SUMMARY:Second Harvest Food Bank
DESCRIPTION:Thursday April 31st from 12:30 pm to 3:30 pm is our Club’s April volunteer day with Second Harvest Food Bank\, 2802 Dairy Drive in Madison. This is a safe working environment with precautions in place. \nPlease consider giving three hours of your time this month to help others\, Let Lois Schulz know by Tuesday noon\, April 26th if you want to participate. loisschulz1942@gmail.com / 608-243-9761
URL:https://ffwis.org/event/second-harvest-food-bank-3/
LOCATION:Second Harvest Food Bank\, 2802 Dairy Drive\, Madison\, Wisconsin\, 53718
CATEGORIES:Volunteer
ORGANIZER;CN="Lois Schulz":MAILTO:loisschulz1942@gmail.com
END:VEVENT
BEGIN:VEVENT
DTSTART;TZID=America/Chicago:20220331T123000
DTEND;TZID=America/Chicago:20220331T153000
DTSTAMP:20260425T125325
CREATED:20220321T001414Z
LAST-MODIFIED:20220324T213159Z
UID:4587-1648729800-1648740600@ffwis.org
SUMMARY:Second Harvest Food Bank
DESCRIPTION:Thursday March 31st from 12:30 pm to 3:30 pm is our Club’s March volunteer day with Second Harvest Food Bank\, 2802 Dairy Drive in Madison. This is a safe working environment with precautions in place. \nPlease consider giving three hours of your time this month to help others\, Let Lois Schulz know by Tuesday noon\, March 29th if you want to participate. loisschulz1942@gmail.com / 608-243-9761
URL:https://ffwis.org/event/second-harvest-food-bank-2/
LOCATION:Second Harvest Food Bank\, 2802 Dairy Drive\, Madison\, Wisconsin\, 53718
CATEGORIES:Volunteer
ORGANIZER;CN="Lois Schulz":MAILTO:loisschulz1942@gmail.com
END:VEVENT
BEGIN:VEVENT
DTSTART;TZID=America/Chicago:20220228T123000
DTEND;TZID=America/Chicago:20220228T150000
DTSTAMP:20260425T125325
CREATED:20220204T224203Z
LAST-MODIFIED:20220208T223054Z
UID:4556-1646051400-1646060400@ffwis.org
SUMMARY:Second Harvest Food Bank
DESCRIPTION:Welcome in the New Year and join the fun by volunteering with Second Harvest Food Bank\, 2802 Dairy Drivein Madison on Thursday February 28. From 12:30 pm to 3:30 pm.  \nThis is a safe working environment with precautions in place. There is a real need for food pantries to provide for folks in our community who are food insecure. Second Harvest really needs volunteers!  Please consider giving three hours of your time this month to help others.  \nLet Lois Schulz know by Tuesday noon\, January 4th at 608–243–9761 or loisschulz1942@gmail.com if you want to participate.
URL:https://ffwis.org/event/second-harvest-food-bank/
LOCATION:Second Harvest Food Bank\, 2802 Dairy Drive\, Madison\, Wisconsin\, 53718
CATEGORIES:Volunteer
ORGANIZER;CN="Lois Schulz":MAILTO:loisschulz1942@gmail.com
END:VEVENT
BEGIN:VEVENT
DTSTART;TZID=America/Chicago:20220127T123000
DTEND;TZID=America/Chicago:20220127T153000
DTSTAMP:20260425T125325
CREATED:20211230T212039Z
LAST-MODIFIED:20211230T212601Z
UID:4474-1643286600-1643297400@ffwis.org
SUMMARY:Second Harvest
DESCRIPTION:Help out and have fun with us!
URL:https://ffwis.org/event/second-harvest/
LOCATION:Second Harvest Foodbank of Southern Wisconsin\, 2802 Dairy Drive\, Madison\, 53719\, United States
CATEGORIES:Volunteer
END:VEVENT
BEGIN:VEVENT
DTSTART;TZID=America/Chicago:20220106T123000
DTEND;TZID=America/Chicago:20220106T153000
DTSTAMP:20260425T125325
CREATED:20211230T202136Z
LAST-MODIFIED:20211230T211201Z
UID:4460-1641472200-1641483000@ffwis.org
SUMMARY:Second Harvest Foodbank of Southern Wisconsin
DESCRIPTION:Help out and have fun!
URL:https://ffwis.org/event/second-harvest-foodbank-of-southern-wisconsin/
LOCATION:Second Harvest Foodbank of Southern Wisconsin\, 2802 Dairy Drive\, Madison\, 53719\, United States
CATEGORIES:Volunteer
END:VEVENT
END:VCALENDAR