BEGIN:VCALENDAR
VERSION:2.0
PRODID:-//Friendship Force of Wisconsin - ECPv6.15.20//NONSGML v1.0//EN
CALSCALE:GREGORIAN
METHOD:PUBLISH
X-WR-CALNAME:Friendship Force of Wisconsin
X-ORIGINAL-URL:https://ffwis.org
X-WR-CALDESC:Events for Friendship Force of Wisconsin
REFRESH-INTERVAL;VALUE=DURATION:PT1H
X-Robots-Tag:noindex
X-PUBLISHED-TTL:PT1H
BEGIN:VTIMEZONE
TZID:America/Chicago
BEGIN:DAYLIGHT
TZOFFSETFROM:-0600
TZOFFSETTO:-0500
TZNAME:CDT
DTSTART:20230312T080000
END:DAYLIGHT
BEGIN:STANDARD
TZOFFSETFROM:-0500
TZOFFSETTO:-0600
TZNAME:CST
DTSTART:20231105T070000
END:STANDARD
BEGIN:DAYLIGHT
TZOFFSETFROM:-0600
TZOFFSETTO:-0500
TZNAME:CDT
DTSTART:20240310T080000
END:DAYLIGHT
BEGIN:STANDARD
TZOFFSETFROM:-0500
TZOFFSETTO:-0600
TZNAME:CST
DTSTART:20241103T070000
END:STANDARD
BEGIN:DAYLIGHT
TZOFFSETFROM:-0600
TZOFFSETTO:-0500
TZNAME:CDT
DTSTART:20250309T080000
END:DAYLIGHT
BEGIN:STANDARD
TZOFFSETFROM:-0500
TZOFFSETTO:-0600
TZNAME:CST
DTSTART:20251102T070000
END:STANDARD
BEGIN:DAYLIGHT
TZOFFSETFROM:-0600
TZOFFSETTO:-0500
TZNAME:CDT
DTSTART:20260308T080000
END:DAYLIGHT
BEGIN:STANDARD
TZOFFSETFROM:-0500
TZOFFSETTO:-0600
TZNAME:CST
DTSTART:20261101T070000
END:STANDARD
END:VTIMEZONE
BEGIN:VEVENT
DTSTART;TZID=America/Chicago:20250217T070000
DTEND;TZID=America/Chicago:20250217T203000
DTSTAMP:20260425T215441
CREATED:20241209T230422Z
LAST-MODIFIED:20241209T230422Z
UID:5609-1739775600-1739824200@ffwis.org
SUMMARY:Book Club
DESCRIPTION:Farm Boy by Tom Miller – Feb 17\, unless we choose another date or time.  Possibly in person.   Tom has offered to do a reading from his book detailing his life growing up on a farm in North Dakota.   We are considering an afternoon meeting with Tom presenting.  Stay tuned for more or contact Marjie or Marian for more details.
URL:https://ffwis.org/event/book-club-15/
LOCATION:WI
ORGANIZER;CN="Marjie Marion":MAILTO:midsi@aol.com
END:VEVENT
BEGIN:VEVENT
DTSTART;TZID=America/Chicago:20250215T101500
DTEND;TZID=America/Chicago:20250215T121500
DTSTAMP:20260425T215441
CREATED:20250110T195657Z
LAST-MODIFIED:20250110T195657Z
UID:5634-1739614500-1739621700@ffwis.org
SUMMARY:Mission Focused Travel
DESCRIPTION:Join us for a work shop discussing mission focused travel.  This initiative grew out of our strategic planning this spring.  Four main priorities were identified to take the organization forward. One of those priorities is developing mission-focused travel and cultural experiences.   Snacks and lunch included.  
URL:https://ffwis.org/event/mission-focused-travel/
LOCATION:Fitchburg Public Library\, 5530 Lacy Road\, Fitchburg\, Wisconsin\, 53711
ORGANIZER;CN="Tom Miller":MAILTO:tfmillerphoto@sbcglobal.net
END:VEVENT
BEGIN:VEVENT
DTSTART;TZID=America/Chicago:20250212T173000
DTEND;TZID=America/Chicago:20250212T183000
DTSTAMP:20260425T215441
CREATED:20250110T195234Z
LAST-MODIFIED:20250110T195234Z
UID:5632-1739381400-1739385000@ffwis.org
SUMMARY:Amazonian Brazil with Magdi
DESCRIPTION:Magdi Sebestyn will share her experiences traveling in the Amazon with another Friendship Force group.
URL:https://ffwis.org/event/amazonian-brazil-with-magdi/
LOCATION:Zoom – within your own home!\, Madison\, WI\, 53706\, United States
ORGANIZER;CN="David Blado":MAILTO:david-blado@sbcglobal.net
END:VEVENT
BEGIN:VEVENT
DTSTART;TZID=America/Chicago:20250206T120000
DTEND;TZID=America/Chicago:20250206T140000
DTSTAMP:20260425T215441
CREATED:20250111T013512Z
LAST-MODIFIED:20250111T013512Z
UID:5640-1738843200-1738850400@ffwis.org
SUMMARY:Dining on the 6th
DESCRIPTION:  \nThursday\, February 6\, 2025 \n12:00 noon for lunch \nLiberty Station American Tavern & Smokehouse \n2161 Rimrock Road\, Madison \nJoin your friends for lunch at Liberty Station\, American Tavern and \nSmokehouse\, a culinary endeavor from Omaha\, Nebraska. The menu uses \nmany locally sourced ingredients\, fresh seafood\, and high quality meats made \nin a custom smoker on the patio. \nPlease register by Tuesday\, February 4\, with host Gail Holmes\, phone \n608 249-1846 or email glholmes@wisc.edu so that we have a place at the \ntable reserved for you.
URL:https://ffwis.org/event/dining-on-the-6th-10/
LOCATION:Liberty Station\, 2161 Rimrock Rd\, Madison\, Wisconsin\, 53713
ORGANIZER;CN="Gail Holmes":MAILTO:glholmes@wisc.edu
END:VEVENT
BEGIN:VEVENT
DTSTART;TZID=America/Chicago:20250129T123000
DTEND;TZID=America/Chicago:20250129T153000
DTSTAMP:20260425T215441
CREATED:20250104T161658Z
LAST-MODIFIED:20250104T161658Z
UID:5614-1738153800-1738164600@ffwis.org
SUMMARY:Second Harvest
DESCRIPTION:Join us for our monthly service activity.  Each month we sort\, repackage and in general give our partners at Second Harvest a hand.  Second Harvest distributed over 26 million pounds of food to Food Banks across South Central Wisconsin in 2024.   The need is greater than ever.   If you can help or if you are willing to coordinate our efforts\, please contact Gail Holmes.
URL:https://ffwis.org/event/second-harvest-12/
LOCATION:Second Harvest Foodbank of Southern Wisconsin\, 2802 Dairy Drive\, Madison\, 53719\, United States
ORGANIZER;CN="Gail Holmes":MAILTO:glholmes@wisc.edu
END:VEVENT
BEGIN:VEVENT
DTSTART;TZID=America/Chicago:20250120T190000
DTEND;TZID=America/Chicago:20250120T190000
DTSTAMP:20260425T215441
CREATED:20241209T230101Z
LAST-MODIFIED:20241209T230101Z
UID:5607-1737399600-1737399600@ffwis.org
SUMMARY:Book Club
DESCRIPTION:Apeirogon by Callum McCann  will be the book for -January 20 7:00 by zoom
URL:https://ffwis.org/event/book-club-14/
LOCATION:Zoom – within your own home!\, Madison\, WI\, 53706\, United States
ORGANIZER;CN="Marjie Marion":MAILTO:midsi@aol.com
END:VEVENT
BEGIN:VEVENT
DTSTART;TZID=America/Chicago:20250104T120000
DTEND;TZID=America/Chicago:20250104T150000
DTSTAMP:20260425T215441
CREATED:20241013T224226Z
LAST-MODIFIED:20241209T230854Z
UID:5546-1735992000-1736002800@ffwis.org
SUMMARY:Holiday Party
DESCRIPTION:Holiday Party Saturday\, January 4\, 2025 \n12 noon – 3 pm \nVintage Brewing Company West 674 S. Whitney Way Madison\, WI
URL:https://ffwis.org/event/holiday-party/
LOCATION:Vintage Brewing Company West\, 674 S Whitney Way\, United States
END:VEVENT
BEGIN:VEVENT
DTSTART;TZID=America/Chicago:20241216T190000
DTEND;TZID=America/Chicago:20241216T190000
DTSTAMP:20260425T215441
CREATED:20241209T230653Z
LAST-MODIFIED:20241209T230653Z
UID:5612-1734375600-1734375600@ffwis.org
SUMMARY:Book Club
DESCRIPTION:Our next book will be Baking Cakes in Kigali by Gaile Parkin\, with meeting to be held by zoom on Monday Dec 16 at 7:00.  The author was born and raised in Zambia\, has worked in South Africa and Rwanda\, and has written textbooks and children’s books in addition to her writing for adults.  The book centers on a Tanzanian woman who has moved her family to Rwanda\, and on her extended family and friends and the baking business that she develops to help to support them.  Femina (South Africa) calls it “A wonderful\, life-affirming novel…a funny\, charming read filled with both the sadness and joy of Africa.”  The FF International book club is reading this for their December meeting.
URL:https://ffwis.org/event/book-club-16/
LOCATION:WI
END:VEVENT
BEGIN:VEVENT
DTSTART;TZID=America/Chicago:20241118T190000
DTEND;TZID=America/Chicago:20241118T200000
DTSTAMP:20260425T215441
CREATED:20241027T002313Z
LAST-MODIFIED:20241027T002313Z
UID:5577-1731956400-1731960000@ffwis.org
SUMMARY:Book Club
DESCRIPTION:And without further ado\, the book for November will be The Light Pirate by Lily Brooks-Dalton.  We will meet to discuss on Monday\, Nov. 18 at 7:00 by zoom.  Club member Dorothy Baldwin recommends this book\, especially as it ties into the climate meeting attended by some members during the recent FF Conference in Milwaukee.
URL:https://ffwis.org/event/book-club-13/
LOCATION:Zoom – within your own home!\, Madison\, WI\, 53706\, United States
CATEGORIES:Book Club
ORGANIZER;CN="Marjie Marion":MAILTO:midsi@aol.com
END:VEVENT
BEGIN:VEVENT
DTSTART;TZID=America/Chicago:20241106T120000
DTEND;TZID=America/Chicago:20241106T120000
DTSTAMP:20260425T215441
CREATED:20241027T001525Z
LAST-MODIFIED:20241027T003524Z
UID:5570-1730894400-1730894400@ffwis.org
SUMMARY:Dining on the 6th
DESCRIPTION:Our November gathering will be for lunch at noon at the famous Norwegian Norski Nook Restaurant and Bakery in DeForest. \nPlease register by Monday\, November 4\, with host Gail Holmes\, phone 608 249-1846 or email glholmes@wisc.edu.Looking forward to a beautiful fall day for our enjoyment. As always\, please plan to wear your name tag. \n 
URL:https://ffwis.org/event/dining-on-the-6th-9/
LOCATION:Norski Nook\, 100 East Holum Street\, DeForest
ORGANIZER;CN="Gail Holmes":MAILTO:glholmes@wisc.edu
END:VEVENT
BEGIN:VEVENT
DTSTART;TZID=America/Chicago:20241030T173000
DTEND;TZID=America/Chicago:20241030T190000
DTSTAMP:20260425T215441
CREATED:20241027T001950Z
LAST-MODIFIED:20241027T003440Z
UID:5575-1730309400-1730314800@ffwis.org
SUMMARY:Chengdu\, China\, Presented by Lin via Zoom
DESCRIPTION:Many of you have savored spicy specialties from the Chinese province of Sichuan (old spelling Szechwan) at local restaurants. Ready for another “taste” of southwestern China?  In less than a week\, Lin\, a senior at UW-M majoring in philosophy and political science\, will highlight her home city of Chengdu at 5:30 pm via zoom. \nThe presentation will begin at 5:30 pm and last approximately an hour. Additional time\, if needed\, will be devoted to questions and answers. We will open the zoom meeting at 5:15 pm to offer participants a chance to socialize. \nIf you are interested in joining this presentation\, please notify David Blado at david-blado@sbcglobal.net or Mike Lambert at lambertmichaelj@gmail.com.
URL:https://ffwis.org/event/chengdu-china-presented-by-lin-viz-zoom/
LOCATION:Zoom – within your own home!\, Madison\, WI\, 53706\, United States
CATEGORIES:Programs
ORGANIZER;CN="David Blado":MAILTO:david-blado@sbcglobal.net
END:VEVENT
BEGIN:VEVENT
DTSTART;TZID=America/Chicago:20241030T123000
DTEND;TZID=America/Chicago:20241030T153000
DTSTAMP:20260425T215441
CREATED:20241013T223911Z
LAST-MODIFIED:20241013T223943Z
UID:5543-1730291400-1730302200@ffwis.org
SUMMARY:Second Harvest
DESCRIPTION:You may join FF friends and other volunteers the last Wednesday of the month from 12:30-3:30. The staff is friendly and caring and will instruct you as to your “job” for that day. You’ll be able to take a break during that 3 hour shift to have some goodies and chat with friends.  Sign up by October 28-see newsletter for details and watch your email.
URL:https://ffwis.org/event/second-harvest-11/
LOCATION:Second Harvest Foodbank of Southern Wisconsin\, 2802 Dairy Drive\, Madison\, 53719\, United States
ORGANIZER;CN="Judy Thorpe":MAILTO:jthorpe12@charter.net
END:VEVENT
BEGIN:VEVENT
DTSTART;TZID=America/Chicago:20241013T190000
DTEND;TZID=America/Chicago:20241021T203000
DTSTAMP:20260425T215441
CREATED:20241013T223534Z
LAST-MODIFIED:20241013T223534Z
UID:5541-1728846000-1729542600@ffwis.org
SUMMARY:Book Club - In Person
DESCRIPTION:We have one book selected for our meeting on Monday\, October 21. It is This is Happiness by Irish author Niall Williams and it appeared on the FF International book list. Margaret Renkl of The New York Times calls it “a book so beautiful and so funny and so true that it will make you love the whole human race and forgive it all its trespasses.”
URL:https://ffwis.org/event/book-club-in-person/
LOCATION:WI
ORGANIZER;CN="Marjie Marion":MAILTO:midsi@aol.com
END:VEVENT
BEGIN:VEVENT
DTSTART;VALUE=DATE:20241007
DTEND;VALUE=DATE:20241010
DTSTAMP:20260425T215441
CREATED:20231003T004936Z
LAST-MODIFIED:20240323T174723Z
UID:5302-1728259200-1728518399@ffwis.org
SUMMARY:North American Conference  in Milwaukee
DESCRIPTION:A super regional conference with Canada and the Midwest will be held in Milwaukee.   All are welcome to attend.  Watch newsletter for details
URL:https://ffwis.org/event/north-american-conference-in-milwaukee/
LOCATION:WI
END:VEVENT
BEGIN:VEVENT
DTSTART;TZID=America/Chicago:20240926T160000
DTEND;TZID=America/Chicago:20240926T173000
DTSTAMP:20260425T215441
CREATED:20240830T005712Z
LAST-MODIFIED:20240830T005712Z
UID:5526-1727366400-1727371800@ffwis.org
SUMMARY:Board Meeting
DESCRIPTION:Monthly board meeting was rescheduled due to the Ghana outbound and Board conflicts in early September.  This will be the September/October board Meeting
URL:https://ffwis.org/event/board-meeting-5/
LOCATION:Zoom – within your own home!\, Madison\, WI\, 53706\, United States
END:VEVENT
BEGIN:VEVENT
DTSTART;TZID=America/Chicago:20240925T123000
DTEND;TZID=America/Chicago:20240925T153000
DTSTAMP:20260425T215441
CREATED:20240830T005405Z
LAST-MODIFIED:20240830T005405Z
UID:5524-1727267400-1727278200@ffwis.org
SUMMARY:Second Harvest
DESCRIPTION:To volunteer for September 25  please contact Judy Thorpe\n(jthorpe12@charter.net or 608-772-5438) by\nSeptember 23. \n 
URL:https://ffwis.org/event/second-harvest-10/
LOCATION:Second Harvest Foodbank of Southern Wisconsin\, 2802 Dairy Drive\, Madison\, 53719\, United States
ORGANIZER;CN="Judy Thorpe":MAILTO:jthorpe12@charter.net
END:VEVENT
BEGIN:VEVENT
DTSTART;TZID=America/Chicago:20240916T190000
DTEND;TZID=America/Chicago:20240916T203000
DTSTAMP:20260425T215441
CREATED:20240830T003113Z
LAST-MODIFIED:20240830T003113Z
UID:5514-1726513200-1726518600@ffwis.org
SUMMARY:Book Club
DESCRIPTION:September 16 – in person\,  at Maureen Kinds.   Contact Marjie Marion to be added to the list and obtain the time.   \nForty Autumns: a family’s story of courage and survival on both sides of the Berlin Wall by Nina Willner  (2016 – 391 pp)  15 copies in the library 
URL:https://ffwis.org/event/book-club-10/
LOCATION:WI
ORGANIZER;CN="Marjie Marion":MAILTO:midsi@aol.com
END:VEVENT
BEGIN:VEVENT
DTSTART;TZID=America/Chicago:20240913T100000
DTEND;TZID=America/Chicago:20240913T113000
DTSTAMP:20260425T215441
CREATED:20240612T200115Z
LAST-MODIFIED:20240612T200115Z
UID:5495-1726221600-1726227000@ffwis.org
SUMMARY:
DESCRIPTION:  \n\n\n\n\nPlease join us for our next highway cleanup events. Our community appreciates your effort to make our roadsides look clean and beautiful! \nFriday\, Sept 13 at 10am \nPlease meet at the Middleton Park and Ride off Hwy 12 exit 249. Contact Stephanie Vanden Bush at sljacobs2@gmail.com or (920) 676-1441 with questions and/or your RSVP. \n\n\n\n\nFriday\, Sept 13 at 10am
URL:https://ffwis.org/event/5495/
LOCATION:WI
ORGANIZER;CN="Stephanie Vanden Bush":MAILTO:sljacobs2@gmail.com
END:VEVENT
BEGIN:VEVENT
DTSTART;TZID=America/Chicago:20240907T170000
DTEND;TZID=America/Chicago:20240907T170000
DTSTAMP:20260425T215441
CREATED:20240830T004035Z
LAST-MODIFIED:20240830T004240Z
UID:5519-1725728400-1725728400@ffwis.org
SUMMARY:Summer Picnic--RSVP by September 4
DESCRIPTION:Saturday\, September 7\, 2024\nMarshall Park 5:00 Social time\n2101 Allen Blvd 5:15 Picnic potluck buffet\nMadison 7:21 Sunset ☀ 🌴\nGrilled hamburgers and brats will be pre-\nprepared by grill master John Baldwin. We will\nhave buns and condiments to dress them up. \nPlease provide a dish to share for the potluck\nsuch as potato salad\, vegetable salad or platter\,\nbaked beans\, hot dish\, meat dish\, hors d’oeuvres\,\nchips and dip\, fruit tray\, variety of desserts\, or\nyour favorite picnic food.\nPlease bring your own beverage\, alcohol is\npermissible in this park; park rules prohibit glass\ncontainers. Paper plates\, utensils\, napkins\, and\ncups will be provided. \nThe program following our potluck will be a big\n“welcome back” to our Ghanian Ambassadors–\nCoordinators Larry Neuman and Maureen Kind;\nDorothy Baldwin\, David Blado\, Ariel Ford\,\nMargaret Harrigan\, Audrey Liimatainen\, Magdi\nSebestyen\, and Diane Mertens.\nThose who are present will briefly tell about their\nhosts\, share a memorable experience\, and\npossibly show a souvenir.\nSummer Picnic! \nEasy directions to the Park:\nFrom University Avenue at Imperial Garden\, turn\nnorth onto Allen Boulevard. At the bottom of the\nhill\, turn right into the right-side parking lot\, and\nwalk up the incline past the playground to the\nshelter. If needed\, drive up the small driveway to\nthe shelter for drop-off and then return your car\nto the parking lot.\n***********\nReservations due by Wednesday\, September 4\,\nso that serving supplies\, tables and supplemental\nfood can be prepared.\nPlease indicate your potluck contribution\nand your meat choice\nwhen you make your reservation:\nGail Holmes\n(608) 249-1846\nglholmes@wisc.edu\nPlease wear your name tag!\n🍉
URL:https://ffwis.org/event/summer-picnic-rsvp-by-september-4/
LOCATION:Marshall Park
ORGANIZER;CN="Gail Holmes":MAILTO:glholmes@wisc.edu
END:VEVENT
BEGIN:VEVENT
DTSTART;TZID=America/Chicago:20240829T100000
DTEND;TZID=America/Chicago:20240829T113000
DTSTAMP:20260425T215441
CREATED:20240830T004729Z
LAST-MODIFIED:20240830T004729Z
UID:5521-1724925600-1724931000@ffwis.org
SUMMARY:Adopt a Highway
DESCRIPTION:Friday\, Sept 13 at 10am\nPlease meet at the Middleton Park and Ride off\nHwy 12\, exit 249. Contact Stephanie Vanden\nBush at sljacobs2@gmail.com or (920) 676-1441\nwith questions and/or your RSVP. \n~~~~~\n~~~~~~~~~~~~~
URL:https://ffwis.org/event/adopt-a-highway/
LOCATION:Middleton Park and Ride\, Hwy 12 Exit 249\, Middleton\, Wisconsin\, 53717
ORGANIZER;CN="Stephanie Vanden Bush":MAILTO:sljacobs2@gmail.com
END:VEVENT
BEGIN:VEVENT
DTSTART;VALUE=DATE:20240801
DTEND;VALUE=DATE:20240816
DTSTAMP:20260425T215441
CREATED:20240612T201832Z
LAST-MODIFIED:20240612T201832Z
UID:5501-1722470400-1723766399@ffwis.org
SUMMARY:Ghana Outbound
DESCRIPTION:Members outbound to Ghana
URL:https://ffwis.org/event/ghana-outbound/
LOCATION:WI
END:VEVENT
BEGIN:VEVENT
DTSTART;TZID=America/Chicago:20240731T123000
DTEND;TZID=America/Chicago:20240731T153000
DTSTAMP:20260425T215441
CREATED:20240612T194746Z
LAST-MODIFIED:20240612T194746Z
UID:5485-1722429000-1722439800@ffwis.org
SUMMARY:Second Harvest
DESCRIPTION:Join us for our volunteer activity.  We support Second Harvest by sorting and packaging food for distribution throughout south central Wisconsin.  Easy work and fun.
URL:https://ffwis.org/event/second-harvest-9/
LOCATION:Second Harvest Foodbank of Southern Wisconsin\, 2802 Dairy Drive\, Madison\, 53719\, United States
ORGANIZER;CN="Judy Thorpe":MAILTO:jthorpe12@charter.net
END:VEVENT
BEGIN:VEVENT
DTSTART;TZID=America/Chicago:20240720T070000
DTEND;TZID=America/Chicago:20240720T140000
DTSTAMP:20260425T215441
CREATED:20240612T195657Z
LAST-MODIFIED:20240612T195806Z
UID:5489-1721458800-1721484000@ffwis.org
SUMMARY:Move & Groove Bike/Walk
DESCRIPTION:For the second year in a row\, our Club will field a team in the annual fundraiserfor the Boys & Girls Clubs of Dane County. July 20\, 2024 \nJoin FF Team Leader Larry Neuman and choose any of the following activities:: a 2-mile walk\, a 5k run\, or one of 3 different bike rides. You can also just come and groove to the band at the post- event party at McKee Farms in Fitchburg. There will be cold drinks\, great food\, family games and activities\, and LIVE MUSIC!
URL:https://ffwis.org/event/move-groove-bike-walk/
LOCATION:McKee Park\, 2930 Chapel Valley Road\, Fitchburg
END:VEVENT
BEGIN:VEVENT
DTSTART;TZID=America/Chicago:20240707T180000
DTEND;TZID=America/Chicago:20240707T193000
DTSTAMP:20260425T215441
CREATED:20240612T195957Z
LAST-MODIFIED:20240612T195957Z
UID:5493-1720375200-1720380600@ffwis.org
SUMMARY:Adopt a Highway Cleanup
DESCRIPTION:Please join us for our next highway cleanup events. Our community appreciates your effort to make our roadsides look clean and beautiful! \nSunday\, July 7 at 6pm \nPlease meet at the Middleton Park and Ride off Hwy 12 exit 249. Contact Stephanie Vanden Bush at sljacobs2@gmail.com or (920) 676-1441 with questions and/or your RSVP.
URL:https://ffwis.org/event/adopt-a-highway-cleanup-2/
LOCATION:WI
ORGANIZER;CN="Stephanie Vanden Bush":MAILTO:sljacobs2@gmail.com
END:VEVENT
BEGIN:VEVENT
DTSTART;TZID=America/Chicago:20240629T100000
DTEND;TZID=America/Chicago:20240630T170000
DTSTAMP:20260425T215442
CREATED:20240612T194426Z
LAST-MODIFIED:20240612T194519Z
UID:5479-1719655200-1719766800@ffwis.org
SUMMARY:International Festival at Overture Hall
DESCRIPTION:Join in the fun!   Music and Food from around the world.  We will have a table at the festival to share information about Friendship Force.    See the newsletters for information.  Jan Barbone is still seeking volunteers to staff the table on Sunday. \n10-5 on Saturday \n1-4 on Sunday
URL:https://ffwis.org/event/international-festival-at-overture-hall/
LOCATION:Overture Hall\, 201 State St\, Madison\, WI\, United States
ORGANIZER;CN="Jan Barbone":MAILTO:madcapjan@yahoo.com
END:VEVENT
BEGIN:VEVENT
DTSTART;TZID=America/Chicago:20240627T003000
DTEND;TZID=America/Chicago:20240627T153000
DTSTAMP:20260425T215442
CREATED:20240323T174426Z
LAST-MODIFIED:20240612T200908Z
UID:5429-1719448200-1719502200@ffwis.org
SUMMARY:Second Harvest
DESCRIPTION:CANCELLED:   Second Harvest Inventory Date:  No volunteer Activity
URL:https://ffwis.org/event/second-harvest-7/
LOCATION:Second Harvest Food Bank\, 2802 Dairy Drive\, Madison\, Wisconsin\, 53718
ORGANIZER;CN="Judy Thorpe":MAILTO:jthorpe12@charter.net
END:VEVENT
BEGIN:VEVENT
DTSTART;TZID=America/Chicago:20240606T080000
DTEND;TZID=America/Chicago:20240614T120000
DTSTAMP:20260425T215442
CREATED:20240323T175552Z
LAST-MODIFIED:20240323T175725Z
UID:5432-1717660800-1718366400@ffwis.org
SUMMARY:Inbound Toronto Journey
DESCRIPTION:See the March/April Newsletter for sign up Sheets.   http://Toronto Reservation Form: https://ffwis.org/wp-content/uploads/2024/03/Toronto-Reservation-Form-2.pdf
URL:https://ffwis.org/event/inbound-toronto-journey/
LOCATION:WI
ORGANIZER;CN="Donna Hussin":MAILTO:djhussin@yahoo.com
END:VEVENT
BEGIN:VEVENT
DTSTART;TZID=America/Chicago:20240529T123000
DTEND;TZID=America/Chicago:20240529T153000
DTSTAMP:20260425T215442
CREATED:20240323T180406Z
LAST-MODIFIED:20240323T180406Z
UID:5437-1716985800-1716996600@ffwis.org
SUMMARY:Second Harvest
DESCRIPTION:Join us for our monthly service project.  We will sort and prepare food for distribution to various food pantries in South Central Wisconsin
URL:https://ffwis.org/event/second-harvest-8/
LOCATION:Second Harvest Food Bank\, 2802 Dairy Drive\, Madison\, Wisconsin\, 53718
ORGANIZER;CN="Judy Thorpe":MAILTO:jthorpe12@charter.net
END:VEVENT
BEGIN:VEVENT
DTSTART;TZID=America/Chicago:20240521T090000
DTEND;TZID=America/Chicago:20240521T140000
DTSTAMP:20260425T215442
CREATED:20240403T215008Z
LAST-MODIFIED:20240403T215122Z
UID:5439-1716282000-1716300000@ffwis.org
SUMMARY:Strategic Planning Session
DESCRIPTION:The board and members will discuss and establish goals for the coming year.
URL:https://ffwis.org/event/strategic-planning-session/
LOCATION:club house at caddis bend and coachman\, Fitchburg
END:VEVENT
BEGIN:VEVENT
DTSTART;TZID=America/Chicago:20240520T190000
DTEND;TZID=America/Chicago:20240520T190000
DTSTAMP:20260425T215442
CREATED:20240323T174046Z
LAST-MODIFIED:20240323T174046Z
UID:5425-1716231600-1716231600@ffwis.org
SUMMARY:Book Club
DESCRIPTION:Join us for a discussion of “PEOPLE OF THE BOOK” by Geraldine Brooks.   Request a Zoom link from either Marjie Marion or Marian Ehrenberg
URL:https://ffwis.org/event/book-club-9/
LOCATION:Zoom – within your own home!\, Madison\, WI\, 53706\, United States
ORGANIZER;CN="Marian Ehrenberg":MAILTO:marianeh2014@gmail.com
END:VEVENT
END:VCALENDAR