BEGIN:VCALENDAR
VERSION:2.0
PRODID:-//Friendship Force of Wisconsin - ECPv6.15.20//NONSGML v1.0//EN
CALSCALE:GREGORIAN
METHOD:PUBLISH
X-WR-CALNAME:Friendship Force of Wisconsin
X-ORIGINAL-URL:https://ffwis.org
X-WR-CALDESC:Events for Friendship Force of Wisconsin
REFRESH-INTERVAL;VALUE=DURATION:PT1H
X-Robots-Tag:noindex
X-PUBLISHED-TTL:PT1H
BEGIN:VTIMEZONE
TZID:America/Chicago
BEGIN:DAYLIGHT
TZOFFSETFROM:-0600
TZOFFSETTO:-0500
TZNAME:CDT
DTSTART:20250309T080000
END:DAYLIGHT
BEGIN:STANDARD
TZOFFSETFROM:-0500
TZOFFSETTO:-0600
TZNAME:CST
DTSTART:20251102T070000
END:STANDARD
BEGIN:DAYLIGHT
TZOFFSETFROM:-0600
TZOFFSETTO:-0500
TZNAME:CDT
DTSTART:20260308T080000
END:DAYLIGHT
BEGIN:STANDARD
TZOFFSETFROM:-0500
TZOFFSETTO:-0600
TZNAME:CST
DTSTART:20261101T070000
END:STANDARD
BEGIN:DAYLIGHT
TZOFFSETFROM:-0600
TZOFFSETTO:-0500
TZNAME:CDT
DTSTART:20270314T080000
END:DAYLIGHT
BEGIN:STANDARD
TZOFFSETFROM:-0500
TZOFFSETTO:-0600
TZNAME:CST
DTSTART:20271107T070000
END:STANDARD
END:VTIMEZONE
BEGIN:VEVENT
DTSTART;VALUE=DATE:20260515
DTEND;VALUE=DATE:20260520
DTSTAMP:20260425T094357
CREATED:20250902T184052Z
LAST-MODIFIED:20251222T172546Z
UID:5852-1778803200-1779235199@ffwis.org
SUMMARY:Outbound to Sacramento\, CA
DESCRIPTION:Applications are open now…. Please apply…  coordinators are Pat Watson and Lise Skofronick.  See your email messages and newsletter for current information.
URL:https://ffwis.org/event/outbound-to-sacramento-ca/
END:VEVENT
BEGIN:VEVENT
DTSTART;TZID=America/Chicago:20260527T123000
DTEND;TZID=America/Chicago:20260527T153000
DTSTAMP:20260425T094357
CREATED:20260302T230351Z
LAST-MODIFIED:20260302T230351Z
UID:5989-1779885000-1779895800@ffwis.org
SUMMARY:Second Harvest
DESCRIPTION:With monthly opportunities\, you can choose a date that works around your travels\, winter get-aways\, and other obligations. All you need to do is respond toan email sent in the middle ofthemonth. Mary Crave lets Second Harvest know how many will be coming so they can plan accordingly. The distribution center is located at 2602   Dairy Drive\, Madison\, just minutes from Stoughton Rd and the Beltline. \n 
URL:https://ffwis.org/event/second-harvest-20/
LOCATION:Second Harvest Food Bank\, 2802 Dairy Drive\, Madison\, Wisconsin\, 53718
ORGANIZER;CN="Mary Crave":MAILTO:mary.crave@wisc.edu
END:VEVENT
END:VCALENDAR