BEGIN:VCALENDAR
VERSION:2.0
PRODID:-//Friendship Force of Wisconsin - ECPv6.15.20//NONSGML v1.0//EN
CALSCALE:GREGORIAN
METHOD:PUBLISH
X-WR-CALNAME:Friendship Force of Wisconsin
X-ORIGINAL-URL:https://ffwis.org
X-WR-CALDESC:Events for Friendship Force of Wisconsin
REFRESH-INTERVAL;VALUE=DURATION:PT1H
X-Robots-Tag:noindex
X-PUBLISHED-TTL:PT1H
BEGIN:VTIMEZONE
TZID:America/Chicago
BEGIN:DAYLIGHT
TZOFFSETFROM:-0600
TZOFFSETTO:-0500
TZNAME:CDT
DTSTART:20250309T080000
END:DAYLIGHT
BEGIN:STANDARD
TZOFFSETFROM:-0500
TZOFFSETTO:-0600
TZNAME:CST
DTSTART:20251102T070000
END:STANDARD
BEGIN:DAYLIGHT
TZOFFSETFROM:-0600
TZOFFSETTO:-0500
TZNAME:CDT
DTSTART:20260308T080000
END:DAYLIGHT
BEGIN:STANDARD
TZOFFSETFROM:-0500
TZOFFSETTO:-0600
TZNAME:CST
DTSTART:20261101T070000
END:STANDARD
BEGIN:DAYLIGHT
TZOFFSETFROM:-0600
TZOFFSETTO:-0500
TZNAME:CDT
DTSTART:20270314T080000
END:DAYLIGHT
BEGIN:STANDARD
TZOFFSETFROM:-0500
TZOFFSETTO:-0600
TZNAME:CST
DTSTART:20271107T070000
END:STANDARD
END:VTIMEZONE
BEGIN:VEVENT
DTSTART;VALUE=DATE:20260424
DTEND;VALUE=DATE:20260428
DTSTAMP:20260425T081620
CREATED:20250902T183519Z
LAST-MODIFIED:20251105T205433Z
UID:5849-1776988800-1777334399@ffwis.org
SUMMARY:North American Regional Conference
DESCRIPTION:The North American Regional Conference will be held from April 24 – April 27 in Memphis Tennessee.  Join fellow club members from around North America in fabulous Memphis.  You can network with other members\, meet FFI staff and attend workshops that will provide information about Friendship Force and its activities. \nConference Opportunity Memphis\, Tennessee – April 2026 \nTo encourage participation in the 2026 FFI North American Conference to be held at The Hyatt Centric Hotel on Beale Street in Memphis TN from April 24-27\, the FFWM Board of \n*NEWS FLASH * Registration is now open!  Early Bird Special -Register by November 10th for just $280\, regular price is $320 \nDirectors will provide financial assistance to five club members who attend and who are willing to assume leadership roles in the Madison club. The conference registration fee plus some funds to partially \n 
URL:https://ffwis.org/event/north-american-regional-conference/
LOCATION:TO Be Announced
END:VEVENT
END:VCALENDAR